BEGIN:VCALENDAR
VERSION:2.0
PRODID:-//Therapy Harley Street - ECPv6.15.20//NONSGML v1.0//EN
CALSCALE:GREGORIAN
METHOD:PUBLISH
X-ORIGINAL-URL:https://www.therapyharleystreet.co.uk
X-WR-CALDESC:Events for Therapy Harley Street
REFRESH-INTERVAL;VALUE=DURATION:PT1H
X-Robots-Tag:noindex
X-PUBLISHED-TTL:PT1H
BEGIN:VTIMEZONE
TZID:Europe/London
BEGIN:DAYLIGHT
TZOFFSETFROM:+0000
TZOFFSETTO:+0100
TZNAME:BST
DTSTART:20240331T010000
END:DAYLIGHT
BEGIN:STANDARD
TZOFFSETFROM:+0100
TZOFFSETTO:+0000
TZNAME:GMT
DTSTART:20241027T010000
END:STANDARD
BEGIN:DAYLIGHT
TZOFFSETFROM:+0000
TZOFFSETTO:+0100
TZNAME:BST
DTSTART:20250330T010000
END:DAYLIGHT
BEGIN:STANDARD
TZOFFSETFROM:+0100
TZOFFSETTO:+0000
TZNAME:GMT
DTSTART:20251026T010000
END:STANDARD
BEGIN:DAYLIGHT
TZOFFSETFROM:+0000
TZOFFSETTO:+0100
TZNAME:BST
DTSTART:20260329T010000
END:DAYLIGHT
BEGIN:STANDARD
TZOFFSETFROM:+0100
TZOFFSETTO:+0000
TZNAME:GMT
DTSTART:20261025T010000
END:STANDARD
END:VTIMEZONE
BEGIN:VEVENT
DTSTART;TZID=Europe/London:20251025T100000
DTEND;TZID=Europe/London:20251025T130000
DTSTAMP:20260422T145302
CREATED:20240506T105939Z
LAST-MODIFIED:20250728T134902Z
UID:8764-1761386400-1761397200@www.therapyharleystreet.co.uk
SUMMARY:Advanced Supervision Group with Prof Ernesto Spinelli 2025
DESCRIPTION:These Master Workshops provide the opportunity to ‘look again’ at our practice and re-view assumptions and expectations regarding being a therapist. “Group supervision sessions seek to provide participants with a safe\, yet challenging\, space\, to consider and address the issues that arise for them when discussing their own\, or another participant’s\, experience of being a therapist. \nGroup supervision can be a valuable and enriching experience for all participants since even though the focus may be on a particular supervisee’s account\, it is likely that all participants will discover broader issues and concerns that resonate with their own encounters with clients.” \nProfessor Ernesto Spinelli was Chair of the Society for Existential Analysis between 1993 and 1999 and is a Life Member of the Society. His writings\, lectures and seminars focus on the application of existential phenomenology to the arenas of therapy\, supervision\, psychology\, and executive coaching. He is a Fellow of the British Psychological Society (BPS) as well as an APECS-accredited executive coach and coaching supervisor. In 2000\, he was the Recipient of the BPS Division of Counselling Psychology Award for Outstanding Contribution to the Profession. And in 2019\, Ernesto received the BPS Award for Distinguished Contribution to Practice. His most recent book\, Practising Existential Therapy: The Relational World 2nd edition (Sage\, 2015) has been widely praised as a major contribution to the advancement of existential theory and practice. Living up to the existential dictum that life is absurd\, Ernesto is also the author of an on-going series of Private Eye novels\, the most recent of which\, Everything Has A Price\, was published in 2023. \nAll dates:  Saturdays 25 January\, 22 February\, 22 March\, 12 April\, 3 May\, 21 June\, 19 July\, 25 October\, 15 November and 13 December 2025 \nFee: £1260 the whole year (£140 per session) \nTime: Saturdays from 10 am to 1 pm (UK time) \nVenue: Online – Zoom \n\nBPS award for distinguished contribution “An internationally-recognised leader in existential therapy and coaching psychology\, Professor Ernesto Spinelli developed and taught the first psychology undergraduate and PhD programmes to focus on counselling and psychotherapy research. He has contributed to a growing interest in\, and professional appreciation of\, existential therapeutic techniques. Professor Spinelli publications and textbooks are standard reading for many psychotherapy and coaching training programmes around the world. His latest book\, Practising Existential Therapy: The Relational World\, 2nd edition (2015)\, was identified as the most influential contemporary text on existential therapeutic practice.” BPS \n\nI find the supervision groups most helpful and supportive on a practical level. \nEmilia\, Integrative Psychotherapist\nProfessor Spinelli is an experienced supervisor who is able to impart his wisdom and knowledge in an authentic manner. \nJanet\, Existential Psychotherapist\nExcellent. Thoroughly enjoyable. Feels safe\, contained and exploratory. \nRuth\, Psychotherapist
URL:https://www.therapyharleystreet.co.uk/cpd/advanced-supervision-group-with-prof-ernesto-spinelli-2025
LOCATION:Online (Zoom)\, United Kingdom
CATEGORIES:Supervision
ORGANIZER;CN="Therapy Harley Street":MAILTO:admin@therapyharleystreet.co.uk
END:VEVENT
END:VCALENDAR